BEGIN:VCALENDAR
VERSION:2.0
PRODID:-//ChamberMaster//Event Calendar 2.0//EN
METHOD:PUBLISH
X-PUBLISHED-TTL:P3D
REFRESH-INTERVAL:P3D
CALSCALE:GREGORIAN
BEGIN:VEVENT
DTSTART;VALUE=DATE:20061028
DTEND;VALUE=DATE:20061029
TRANSP:TRANSPARENT
X-MICROSOFT-CDO-ALLDAYEVENT:TRUE
SUMMARY:Indianapolis Institute for Families Charity Golf Outing and Silent Auction at West-Chase Golf Club
DESCRIPTION:The Indianapolis Institute for Families is hosting a Charity Golf Outing and Silent Auction at West-Chase Golf Club on Saturday\, October 28\, 2006.  Outing packages are $100/golfer or $360/foursome which includes golf\, cart\, range\, beverages\, snacks\, dinner\, silent auction\, and goodie bags.  Individuals may purchase tickets for the dinner and silent auction only for $30.  Sponsorship packages or available and items are needed for the silent auction.  For questions contact Emily Perry at 317-271-3500 or via email at eperry@indplsinstitute.com
X-ALT-DESC;FMTTYPE=text/html:The Indianapolis Institute for Families is hosting a Charity Golf Outing and Silent Auction at West-Chase Golf Club on Saturday\, October 28\, 2006.  Outing packages are $100/golfer or $360/foursome which includes golf\, cart\, range\, beverages\, snacks\, dinner\, silent auction\, and goodie bags.  Individuals may purchase tickets for the dinner and silent auction only for $30.  Sponsorship packages or available and items are needed for the silent auction.  For questions contact Emily Perry at 317-271-3500 or via email at eperry@indplsinstitute.com
LOCATION:4 Hollaway Boulevard\, Brownsburg\, IN 46112 4 Hollaway Blvd. For more information contact contact Emily Perry at 271-3500.
UID:e.2778.344
SEQUENCE:3
DTSTAMP:20260424T085955Z
URL:https://www.brownsburg.com/events/details/indianapolis-institute-for-families-charity-golf-outing-and-silent-auction-at-west-chase-golf-club-10-28-2006-344
END:VEVENT

END:VCALENDAR
