BEGIN:VCALENDAR
VERSION:2.0
PRODID:-//ChamberMaster//Event Calendar 2.0//EN
METHOD:PUBLISH
X-PUBLISHED-TTL:P3D
REFRESH-INTERVAL:P3D
CALSCALE:GREGORIAN
BEGIN:VEVENT
DTSTART;VALUE=DATE:20070720
DTEND;VALUE=DATE:20070723
TRANSP:TRANSPARENT
X-MICROSOFT-CDO-ALLDAYEVENT:TRUE
SUMMARY:Indy NHRA Lucas Oil Drag Racing Series Reschedule Event
DESCRIPTION:
X-ALT-DESC;FMTTYPE=text/html:
LOCATION:10267 E. Highway 136\, Indianapolis\, IN 46234
UID:e.2778.439
SEQUENCE:3
DTSTAMP:20260423T201152Z
URL:https://www.brownsburg.com/events/details/indy-nhra-lucas-oil-drag-racing-series-reschedule-event-07-20-2007-439
END:VEVENT

END:VCALENDAR
