BEGIN:VCALENDAR
VERSION:2.0
PRODID:-//ChamberMaster//Event Calendar 2.0//EN
METHOD:PUBLISH
X-PUBLISHED-TTL:P3D
REFRESH-INTERVAL:P3D
CALSCALE:GREGORIAN
BEGIN:VEVENT
DTSTART;VALUE=DATE:20060715
DTEND;VALUE=DATE:20060716
TRANSP:TRANSPARENT
X-MICROSOFT-CDO-ALLDAYEVENT:TRUE
SUMMARY:Indy United Racing League Race
DESCRIPTION:
X-ALT-DESC;FMTTYPE=text/html:
LOCATION:10267 East U.S. Highway 136\, Indianapolis\, IN 46234 10267 East U.S. Hwy. 136
UID:e.2778.104
SEQUENCE:3
DTSTAMP:20260424T125505Z
URL:https://www.brownsburg.com/events/details/indy-united-racing-league-race-07-15-2006-104
END:VEVENT

END:VCALENDAR
