BEGIN:VCALENDAR
VERSION:2.0
PRODID:-//ChamberMaster//Event Calendar 2.0//EN
METHOD:PUBLISH
X-PUBLISHED-TTL:P3D
REFRESH-INTERVAL:P3D
CALSCALE:GREGORIAN
BEGIN:VEVENT
DTSTART;VALUE=DATE:20060803
DTEND;VALUE=DATE:20060804
TRANSP:TRANSPARENT
X-MICROSOFT-CDO-ALLDAYEVENT:TRUE
SUMMARY:J.D. Byrider 100 USAC Silver Crown Series
DESCRIPTION:
X-ALT-DESC;FMTTYPE=text/html:
LOCATION:10267 East U.S. Highway 136\, Indianapolis\, IN 46234 10267 East U.S. Hwy. 136
UID:e.2778.106
SEQUENCE:3
DTSTAMP:20260424T113955Z
URL:https://www.brownsburg.com/events/details/j-d-byrider-100-usac-silver-crown-series-08-03-2006-106
END:VEVENT

END:VCALENDAR
