BEGIN:VCALENDAR
VERSION:2.0
PRODID:-//ChamberMaster//Event Calendar 2.0//EN
METHOD:PUBLISH
X-PUBLISHED-TTL:P3D
REFRESH-INTERVAL:P3D
CALSCALE:GREGORIAN
BEGIN:VEVENT
DTSTART:20060118T163000Z
DTEND:20060118T180000Z
X-MICROSOFT-CDO-ALLDAYEVENT:FALSE
SUMMARY:January Monthly Luncheon--State of the Town
DESCRIPTION:
X-ALT-DESC;FMTTYPE=text/html:
LOCATION:Fire Territory Building\, 470 E. Northfield Drive
UID:e.2778.59
SEQUENCE:3
DTSTAMP:20260424T222145Z
URL:https://www.brownsburg.com/events/details/january-monthly-luncheon-state-of-the-town-01-18-2006-59
END:VEVENT

END:VCALENDAR
