BEGIN:VCALENDAR
VERSION:2.0
PRODID:-//ChamberMaster//Event Calendar 2.0//EN
METHOD:PUBLISH
X-PUBLISHED-TTL:P3D
REFRESH-INTERVAL:P3D
CALSCALE:GREGORIAN
BEGIN:VEVENT
DTSTART:20060915T163000Z
DTEND:20060915T180000Z
X-MICROSOFT-CDO-ALLDAYEVENT:FALSE
SUMMARY:Joy at Work Seminar
DESCRIPTION:Business and Community leaders: Join experts Dennis Bakke and Brad Smith live via satellite at Connection Pointe Christian Church (1800 N. Green St.) on Friday\, September 15 from 12:30-2:00 p.m. to learn it's possible to enjoy both our work and our lives!  In fact\, work can and should be fun!  God has created us to make decisions and take responsibility for our actions.  Learn how to bring these together and experience Joy at Work!\n\n \n\nBring your team from work with you!  Box lunches catered by Fazoli's and sponsored by Stan Comer of Weichert Realtors Hometown Real Estate will be available starting at Noon in Fellowship Hall 2 and the seminar will be shown in the Chapel.\n\n \n\nThis seminar is based on the New York Times bestseller Joy at Work: A Revolutionary Approach to Fun on the Job by Dennis Bakke.  Reserve your seats today!  Register you and your team by Wednesday\, September 13.  Lunch and admission are free\, but tickets are required.  Register for tickets online at www.connectionpointechurch.org\, or in person at the church office.\n\n \n\nFor additional information\, contact Nancy Ware\, 852.2225\, x239 or go online to www.connectionpointechurch.org.
X-ALT-DESC;FMTTYPE=text/html:Business and Community leaders: Join experts Dennis Bakke and Brad Smith live via satellite at Connection Pointe Christian Church (1800 N. Green St.) on Friday\, September 15 from 12:30-2:00 p.m. to learn it's possible to enjoy both our work and our lives!  In fact\, work can and should be fun!  God has created us to make decisions and take responsibility for our actions.  Learn how to bring these together and experience Joy at Work!\n\n \n\nBring your team from work with you!  Box lunches catered by Fazoli's and sponsored by Stan Comer of Weichert Realtors Hometown Real Estate will be available starting at Noon in Fellowship Hall 2 and the seminar will be shown in the Chapel.\n\n \n\nThis seminar is based on the New York Times bestseller Joy at Work: A Revolutionary Approach to Fun on the Job by Dennis Bakke.  Reserve your seats today!  Register you and your team by Wednesday\, September 13.  Lunch and admission are free\, but tickets are required.  Register for tickets online at www.connectionpointechurch.org\, or in person at the church office.\n\n \n\nFor additional information\, contact Nancy Ware\, 852.2225\, x239 or go online to www.connectionpointechurch.org. \n\n
LOCATION:1800 North Green Street\, Brownsburg\, IN 46112 Business and Community leaders: Join experts Dennis Bakke and Brad Smith live via satellite at Connection Pointe Christian Church (1800 N. Green St.) on Friday\, September 15 from 12:30-2:00 p.m. to learn it’s possible to enjoy both our work and our lives! In fact\, work can and should be fun! God has created us to make decisions and take responsibility for our actions. Learn how to bring these together and experience Joy at Work!Box lunches catered by Fazoli’s and sponsored by Stan Comer of Weichert Realtors Hometown Real Estate will be available starting at Noon in Fellowship Hall 2 and the seminar will be shown in the Chapel. For additional information\, contact Nancy Ware\, 852.2225\, x239 or go online to www.connectionpointechurch.org.
UID:e.2778.345
SEQUENCE:3
DTSTAMP:20260424T095822Z
URL:https://www.brownsburg.com/events/details/joy-at-work-seminar-09-15-2006-345
END:VEVENT

END:VCALENDAR
