BEGIN:VCALENDAR
VERSION:2.0
PRODID:-//ChamberMaster//Event Calendar 2.0//EN
METHOD:PUBLISH
X-PUBLISHED-TTL:P3D
REFRESH-INTERVAL:P3D
CALSCALE:GREGORIAN
BEGIN:VEVENT
DTSTART:20060629T210000Z
DTEND:20060705T010000Z
X-MICROSOFT-CDO-ALLDAYEVENT:FALSE
SUMMARY:July 4th Extravaganza Merchent Tent
DESCRIPTION:The dates of the merchant tent are:  Wednesday\, June 28\, 2006\, thru Tuesday\, July 4\, 2006.  Tent activities will be from 5:00pm to 9:00pm daily.  Security will be provided for the merchant tent each evening starting Wednesday the 28th at 9:00pm and ending at 5:00pm the following evening throughout the event and will terminate after the fireworks on July 4th.\n\nThe Exhibit/Sponsor Contract with booth size\, pricing and tent sponsorship can be obtained from Janet Fisher at Carpenter Realtors by contacting her at 852-4091 or jfisher@callcarpenter.com.
X-ALT-DESC;FMTTYPE=text/html:The dates of the merchant tent are:  Wednesday\, June 28\, 2006\, thru Tuesday\, July 4\, 2006.  Tent activities will be from 5:00pm to 9:00pm daily.  Security will be provided for the merchant tent each evening starting Wednesday the 28th at 9:00pm and ending at 5:00pm the following evening throughout the event and will terminate after the fireworks on July 4th.\n\nThe Exhibit/Sponsor Contract with booth size\, pricing and tent sponsorship can be obtained from Janet Fisher at Carpenter Realtors by contacting her at 852-4091 or jfisher@callcarpenter.com.
LOCATION:Contact Janet Fisher at Carpenter Realtors for rate information-852-4091
UID:e.2778.251
SEQUENCE:3
DTSTAMP:20260424T125131Z
URL:https://www.brownsburg.com/events/details/july-4th-extravaganza-merchent-tent-06-29-2006-251
END:VEVENT

END:VCALENDAR
