BEGIN:VCALENDAR
VERSION:2.0
PRODID:-//ChamberMaster//Event Calendar 2.0//EN
METHOD:PUBLISH
X-PUBLISHED-TTL:P3D
REFRESH-INTERVAL:P3D
CALSCALE:GREGORIAN
BEGIN:VEVENT
DTSTART:20060705T021500Z
DTEND:20060705T021500Z
X-MICROSOFT-CDO-ALLDAYEVENT:FALSE
SUMMARY:July 4th Fireworks
DESCRIPTION:
X-ALT-DESC;FMTTYPE=text/html:
LOCATION:Fireworks will be shot from Arbuckle Acres Park located at 200 N. Green Street in Brownsburg on Tuesday July 4th at approximately 10:15pm.
UID:e.2778.198
SEQUENCE:3
DTSTAMP:20260424T125003Z
URL:https://www.brownsburg.com/events/details/july-4th-fireworks-07-04-2006-198
END:VEVENT

END:VCALENDAR
