BEGIN:VCALENDAR
VERSION:2.0
PRODID:-//ChamberMaster//Event Calendar 2.0//EN
METHOD:PUBLISH
X-PUBLISHED-TTL:P3D
REFRESH-INTERVAL:P3D
CALSCALE:GREGORIAN
BEGIN:VEVENT
DTSTART:20060704T140000Z
DTEND:20060704T150000Z
X-MICROSOFT-CDO-ALLDAYEVENT:FALSE
SUMMARY:July 4th Parade Sponored by the Brownsburg Lion's Club
DESCRIPTION:Assembly starts at 8:00AM on O'Dell.  Parade starts at 10:00AM sharp.  The Parade will begin on Odell Street near Brownsburg High School and travel north.  The route turns west and proceeds down College Avenue.  Finally it turns north onto State Road 267 and disbands in front of Arbuckle Acres Park.  \n\nThis year there is a $25.00 entry fee for those businesses and companies that are not supporting the fireworks and extravaganza in other ways.  Not for profit and charitable organizations may participate in the parade free of charge.  Contacts for participation are Nick Xinopoulos\, 852-8015 and Dale Peiffer\,852-4516.  Mailing address is Brownsburg Lions Club Parade\, 6785 E. US 136\, Brownsburg\, IN 46112.
X-ALT-DESC;FMTTYPE=text/html:Assembly starts at 8:00AM on O'Dell.  Parade starts at 10:00AM sharp.  The Parade will begin on Odell Street near Brownsburg High School and travel north.  The route turns west and proceeds down College Avenue.  Finally it turns north onto State Road 267 and disbands in front of Arbuckle Acres Park.  \n\nThis year there is a $25.00 entry fee for those businesses and companies that are not supporting the fireworks and extravaganza in other ways.  Not for profit and charitable organizations may participate in the parade free of charge.  Contacts for participation are Nick Xinopoulos\, 852-8015 and Dale Peiffer\,852-4516.  Mailing address is Brownsburg Lions Club Parade\, 6785 E. US 136\, Brownsburg\, IN 46112.
LOCATION:The Parade will start off on Odell Street near Brownsburg High School and travel north. The route turns west and proceeds down College Avenue. Finally it turns north onto State Road 267 and disbands in front of Arbuckle Acres Park. For information on how your group can be a part of this\, contact Nick Xinopoulos at 852-8015.
UID:e.2778.196
SEQUENCE:3
DTSTAMP:20260424T125732Z
URL:https://www.brownsburg.com/events/details/july-4th-parade-sponored-by-the-brownsburg-lion-s-club-07-04-2006-196
END:VEVENT

END:VCALENDAR
