BEGIN:VCALENDAR
VERSION:2.0
PRODID:-//ChamberMaster//Event Calendar 2.0//EN
METHOD:PUBLISH
X-PUBLISHED-TTL:P3D
REFRESH-INTERVAL:P3D
CALSCALE:GREGORIAN
BEGIN:VEVENT
DTSTART:20050622T153000Z
DTEND:20050622T170000Z
X-MICROSOFT-CDO-ALLDAYEVENT:FALSE
SUMMARY:June Chamber Luncheon
DESCRIPTION:Networking & luncheon.  Cost is $10 per person.  Everyone is invited.
X-ALT-DESC;FMTTYPE=text/html:Networking & luncheon.  Cost is $10 per person.  Everyone is invited.
LOCATION:470 East Northfield Drive\, Brownsburg\, IN 46112 Brownsburg Fire Territory Bldg.\, 470 E. Northfield Drive\, Conference Room. Topic: Brownsburg School Board presentation
UID:e.2778.20
SEQUENCE:3
DTSTAMP:20260425T105116Z
URL:https://www.brownsburg.com/events/details/june-chamber-luncheon-06-22-2005-20
END:VEVENT

END:VCALENDAR
