BEGIN:VCALENDAR
VERSION:2.0
PRODID:-//ChamberMaster//Event Calendar 2.0//EN
METHOD:PUBLISH
X-PUBLISHED-TTL:P3D
REFRESH-INTERVAL:P3D
CALSCALE:GREGORIAN
BEGIN:VEVENT
DTSTART:20061021T233000Z
DTEND:20061022T003000Z
X-MICROSOFT-CDO-ALLDAYEVENT:FALSE
SUMMARY:Kid's Costume Contest at Haunts of Hidden River
DESCRIPTION:
X-ALT-DESC;FMTTYPE=text/html:
LOCATION:200 N. Green Street\, Brownsburg\, IN 46112 At Arbuckle Park\; 200 N. Green Street. Pre-register at brownsburg.org or call 858-4172. Walk-ins are welcomed. No fee to enter. Prizes and ribbons awarded!
UID:e.2778.349
SEQUENCE:3
DTSTAMP:20260424T085612Z
URL:https://www.brownsburg.com/events/details/kid-s-costume-contest-at-haunts-of-hidden-river-10-21-2006-349
END:VEVENT

END:VCALENDAR
