BEGIN:VCALENDAR
VERSION:2.0
PRODID:-//ChamberMaster//Event Calendar 2.0//EN
METHOD:PUBLISH
X-PUBLISHED-TTL:P3D
REFRESH-INTERVAL:P3D
CALSCALE:GREGORIAN
BEGIN:VEVENT
DTSTART:20060701T220000Z
DTEND:20060701T220000Z
X-MICROSOFT-CDO-ALLDAYEVENT:FALSE
SUMMARY:Kiwanis Bingo at Extravaganza
DESCRIPTION:
X-ALT-DESC;FMTTYPE=text/html:
LOCATION:200 N. Green Street\, Brownsburg\, IN 46112 Begins at 6pm nightly. Prizes will be 50% of money taken in each game or prizes donated by local businesses.
UID:e.2778.260
SEQUENCE:3
DTSTAMP:20260424T125040Z
URL:https://www.brownsburg.com/events/details/kiwanis-bingo-at-extravaganza-07-01-2006-260
END:VEVENT

END:VCALENDAR
