BEGIN:VCALENDAR
VERSION:2.0
PRODID:-//ChamberMaster//Event Calendar 2.0//EN
METHOD:PUBLISH
X-PUBLISHED-TTL:P3D
REFRESH-INTERVAL:P3D
CALSCALE:GREGORIAN
BEGIN:VEVENT
DTSTART;VALUE=DATE:20070127
DTEND;VALUE=DATE:20070128
TRANSP:TRANSPARENT
X-MICROSOFT-CDO-ALLDAYEVENT:TRUE
SUMMARY:Liberty Tax Service
DESCRIPTION:
X-ALT-DESC;FMTTYPE=text/html:
LOCATION:922 Glenmore Trail \, Brownsburg\, IN 46112
UID:e.2778.404
SEQUENCE:3
DTSTAMP:20260424T043748Z
URL:https://www.brownsburg.com/events/details/liberty-tax-service-01-27-2007-404
END:VEVENT

END:VCALENDAR
