BEGIN:VCALENDAR
VERSION:2.0
PRODID:-//ChamberMaster//Event Calendar 2.0//EN
METHOD:PUBLISH
X-PUBLISHED-TTL:P3D
REFRESH-INTERVAL:P3D
CALSCALE:GREGORIAN
BEGIN:VEVENT
DTSTART;VALUE=DATE:20060407
DTEND;VALUE=DATE:20060410
TRANSP:TRANSPARENT
X-MICROSOFT-CDO-ALLDAYEVENT:TRUE
SUMMARY:Lucas Oil Division 3 Drag Strip Race
DESCRIPTION:
X-ALT-DESC;FMTTYPE=text/html:
LOCATION:10267 East U.S. Highway 136\, Indianapolis\, IN 46234 10267 East U.S. Hwy 136
UID:e.2778.112
SEQUENCE:3
DTSTAMP:20260424T192027Z
URL:https://www.brownsburg.com/events/details/lucas-oil-division-3-drag-strip-race-04-07-2006-112
END:VEVENT

END:VCALENDAR
