BEGIN:VCALENDAR
VERSION:2.0
PRODID:-//ChamberMaster//Event Calendar 2.0//EN
METHOD:PUBLISH
X-PUBLISHED-TTL:P3D
REFRESH-INTERVAL:P3D
CALSCALE:GREGORIAN
BEGIN:VEVENT
DTSTART:20060302T230000Z
DTEND:20060303T000000Z
X-MICROSOFT-CDO-ALLDAYEVENT:FALSE
SUMMARY:Marian College's Adult Programs Information Night
DESCRIPTION:Will host an information night at the Brownsburg Public Library \, 450 S. Jefferson St. on March 2nd from 6-7pm. \n\nWith a location in the Brownsburg Challenger Learning Center\, Marian's Adult Programs is a quality education and convenient for Hendricks County residents looking to attend college classes.\n\nMarian College's Adult Program (MAP) is an undergraduate accelerated degree program.  Students can earn an Associate's or a Bachelor's Degree in Business Administration with majors in Management\, Marketing\, or  Human Resources Management. For more information visit us at the library on March 2nd or call Cleanne Sampson\, MAP Program Development Coordinator at 955-6774
X-ALT-DESC;FMTTYPE=text/html:Will host an information night at the Brownsburg Public Library \, 450 S. Jefferson St. on March 2nd from 6-7pm. \n\nWith a location in the Brownsburg Challenger Learning Center\, Marian's Adult Programs is a quality education and convenient for Hendricks County residents looking to attend college classes.\n\nMarian College's Adult Program (MAP) is an undergraduate accelerated degree program.  Students can earn an Associate's or a Bachelor's Degree in Business Administration with majors in Management\, Marketing\, or  Human Resources Management. For more information visit us at the library on March 2nd or call Cleanne Sampson\, MAP Program Development Coordinator at 955-6774\n\n
LOCATION:3200 Cold Springs Road\, Indianapolis\, IN 46222 At the Brownsburg Library\; 450 S. Jefferson St. Receive information on the undergraduate accelerated degree program.
UID:e.2778.155
SEQUENCE:3
DTSTAMP:20260424T191813Z
URL:https://www.brownsburg.com/events/details/marian-college-s-adult-programs-information-night-03-02-2006-155
END:VEVENT

END:VCALENDAR
