BEGIN:VCALENDAR
VERSION:2.0
PRODID:-//ChamberMaster//Event Calendar 2.0//EN
METHOD:PUBLISH
X-PUBLISHED-TTL:P3D
REFRESH-INTERVAL:P3D
CALSCALE:GREGORIAN
BEGIN:VEVENT
DTSTART:20060714T113000Z
DTEND:20060714T113000Z
X-MICROSOFT-CDO-ALLDAYEVENT:FALSE
SUMMARY:Matt Whetstone for State Representative District 40 Golf Outing
DESCRIPTION:
X-ALT-DESC;FMTTYPE=text/html:
LOCATION:PO Box 290\, Brownsburg\, IN 46112 at Deer Vreek Golf Club in Clayton. Call 317-501-2790 for more information.
UID:e.2778.275
SEQUENCE:3
DTSTAMP:20260424T125106Z
URL:https://www.brownsburg.com/events/details/matt-whetstone-for-state-representative-district-40-golf-outing-07-14-2006-275
END:VEVENT

END:VCALENDAR
