BEGIN:VCALENDAR
VERSION:2.0
PRODID:-//ChamberMaster//Event Calendar 2.0//EN
METHOD:PUBLISH
X-PUBLISHED-TTL:P3D
REFRESH-INTERVAL:P3D
CALSCALE:GREGORIAN
BEGIN:VEVENT
DTSTART:20061021T230000Z
DTEND:20061022T003000Z
X-MICROSOFT-CDO-ALLDAYEVENT:FALSE
SUMMARY:Melchoir Marionette's ''Slightly Haunted Puppet Show''
DESCRIPTION:
X-ALT-DESC;FMTTYPE=text/html:
LOCATION:200 N. Green Street\, Brownsburg\, IN 46112 At Arbuckle Park\; 200 N. Green Street. Always a big hit during the Haunts of Hidden River!
UID:e.2778.348
SEQUENCE:3
DTSTAMP:20260424T100236Z
URL:https://www.brownsburg.com/events/details/melchoir-marionette-s-slightly-haunted-puppet-show-10-21-2006-348
END:VEVENT

END:VCALENDAR
