BEGIN:VCALENDAR
VERSION:2.0
PRODID:-//ChamberMaster//Event Calendar 2.0//EN
METHOD:PUBLISH
X-PUBLISHED-TTL:P3D
REFRESH-INTERVAL:P3D
CALSCALE:GREGORIAN
BEGIN:VEVENT
DTSTART;VALUE=DATE:20060721
DTEND;VALUE=DATE:20060722
TRANSP:TRANSPARENT
X-MICROSOFT-CDO-ALLDAYEVENT:TRUE
SUMMARY:Midnight Madness Event @ IRP
DESCRIPTION:
X-ALT-DESC;FMTTYPE=text/html:
LOCATION:10267 East U.S. Highway 136\, Indianapolis\, IN 46234 10267 East U.S. Hwy 136
UID:e.2778.139
SEQUENCE:3
DTSTAMP:20260424T125039Z
URL:https://www.brownsburg.com/events/details/midnight-madness-event-irp-07-21-2006-139
END:VEVENT

END:VCALENDAR
