BEGIN:VCALENDAR
VERSION:2.0
PRODID:-//ChamberMaster//Event Calendar 2.0//EN
METHOD:PUBLISH
X-PUBLISHED-TTL:P3D
REFRESH-INTERVAL:P3D
CALSCALE:GREGORIAN
BEGIN:VEVENT
DTSTART:20060419T153000Z
DTEND:20060419T170000Z
X-MICROSOFT-CDO-ALLDAYEVENT:FALSE
SUMMARY:Monthly Chamber Luncheon--Bill Estes Speaker!
DESCRIPTION:
X-ALT-DESC;FMTTYPE=text/html:
LOCATION:470 East Northfield Drive\, Brownsburg\, IN 46112 470 E. Northfield Drive. The cost is $10 per person and reservations are required. Click this link to register or call 852-7885.
UID:e.2778.172
SEQUENCE:3
DTSTAMP:20260424T173547Z
URL:https://www.brownsburg.com/events/details/monthly-chamber-luncheon-bill-estes-speaker-04-19-2006-172
END:VEVENT

END:VCALENDAR
