BEGIN:VCALENDAR
VERSION:2.0
PRODID:-//ChamberMaster//Event Calendar 2.0//EN
METHOD:PUBLISH
X-PUBLISHED-TTL:P3D
REFRESH-INTERVAL:P3D
CALSCALE:GREGORIAN
BEGIN:VEVENT
DTSTART:20060217T000000Z
DTEND:20060217T030000Z
X-MICROSOFT-CDO-ALLDAYEVENT:FALSE
SUMMARY:Monthly Euchre Tournament
DESCRIPTION:My Favorite Cigar   36 East Main Street.  Back by popular demand!  Our monthly tournament returns on the 3rd Thursday each month.  Bring a partner and play!  Call ahead to let them know you are coming.  317-858-8755
X-ALT-DESC;FMTTYPE=text/html:My Favorite Cigar & Bar\; 36 East Main Street.  Back by popular demand!  Our monthly tournament returns on the 3rd Thursday each month.  Bring a partner and play!  Call ahead to let them know you are coming.  317-858-8755
LOCATION:36 East Main Street\, Brownsburg\, IN 46112 My Favorite Cigar 36 East Main Street. Back by popular demand! Our monthly tournament returns on the 3rd Thursday each month. Bring a partner and play! Call ahead to let them know you are coming. 317-858-8755
UID:e.2778.84
SEQUENCE:3
DTSTAMP:20260424T203732Z
URL:https://www.brownsburg.com/events/details/monthly-euchre-tournament-02-16-2006-84
END:VEVENT

END:VCALENDAR
