BEGIN:VCALENDAR
VERSION:2.0
PRODID:-//ChamberMaster//Event Calendar 2.0//EN
METHOD:PUBLISH
X-PUBLISHED-TTL:P3D
REFRESH-INTERVAL:P3D
CALSCALE:GREGORIAN
BEGIN:VEVENT
DTSTART:20260318T153000Z
DTEND:20260318T170000Z
X-MICROSOFT-CDO-ALLDAYEVENT:FALSE
SUMMARY:Monthly Luncheon: Housing Hoosiers in Hendricks County
DESCRIPTION:Housing Hoosiers in Hendricks County: Yesterday\, Today & Tomorrow!\n\nSpeakers: \n\n- Nathan Pfahler\, PREMIER PARTNERS with Weichert Realtors- Cooper Group\n\n- Joseph Avry\, Hoosier Heartland State Bank\n\n\n\nDate: March 18\, 2026\n\nLocation: Brownsburg Fire Territory - 470 E Northfield Dr\, Brownsburg\, IN 46112\n\nLunch: Arni's\n\nCost: $15 for members | $20 for non-members
X-ALT-DESC;FMTTYPE=text/html:<p>Housing Hoosiers in Hendricks County: Yesterday\, Today &amp\; Tomorrow!<br />\nSpeakers:&nbsp\;<br />\n- Nathan Pfahler\, PREMIER PARTNERS with Weichert Realtors- Cooper Group<br />\n- Joseph Avry\, Hoosier Heartland State Bank<br />\n<br />\n<span style="font-size:14px\;"><strong>Date:</strong>&nbsp\;March 18\, 2026<br />\n<strong>Location:</strong>&nbsp\;Brownsburg Fire Territory -<span class="w8qArf FoJoyf" style="font-weight: 700\; color: rgb(31\, 31\, 31)\; font-family: Roboto\, Arial\, sans-serif\;">&nbsp\;</span><span class="LrzXr" style="color: var(--bbQxAb)\; font-family: Roboto\, Arial\, sans-serif\;">470 E Northfield Dr\, Brownsburg\, IN 46112</span><br />\n<strong>Lunch:</strong> Arni&#39\;s<br />\n<strong>Cost:</strong>&nbsp\;$15 for members | $20 for non-members</span></p>\n\n<p>&nbsp\;</p>\n
LOCATION:Brownsburg Fire Territory Park in the back parking lot and enter through the back doors.
UID:e.2778.9175
SEQUENCE:3
DTSTAMP:20260425T021045Z
URL:https://www.brownsburg.com/events/details/monthly-luncheon-housing-hoosiers-in-hendricks-county-9175
END:VEVENT

END:VCALENDAR
