BEGIN:VCALENDAR
VERSION:2.0
PRODID:-//ChamberMaster//Event Calendar 2.0//EN
METHOD:PUBLISH
X-PUBLISHED-TTL:P3D
REFRESH-INTERVAL:P3D
CALSCALE:GREGORIAN
BEGIN:VEVENT
DTSTART:20060621T153000Z
DTEND:20060621T170000Z
X-MICROSOFT-CDO-ALLDAYEVENT:FALSE
SUMMARY:Monthly Luncheon Series-- Featured Speaker: Jennifer Theis of the Brownsburg Community School Corporation
DESCRIPTION:Jennifer Theis of the Brownsburg Community School Corporation will be our featured speaker and will discuss the opportunities for local businesses to hire special education students.  Jamie Bohler-Smith of the Hendricks County Convention and Visitors Bureau will also have a short talk.
X-ALT-DESC;FMTTYPE=text/html:Jennifer Theis of the Brownsburg Community School Corporation will be our featured speaker and will discuss the opportunities for local businesses to hire special education students.  Jamie Bohler-Smith of the Hendricks County Convention and Visitors Bureau will also have a short talk.
LOCATION:At the Fire Territory Building\; 470 E. Northfield Drive. All are welcome to attend the monthly Chamber luncheon. The cost is $10 per person and reservations are required.
UID:e.2778.201
SEQUENCE:3
DTSTAMP:20260424T142954Z
URL:https://www.brownsburg.com/events/details/monthly-luncheon-series-featured-speaker-jennifer-theis-of-the-brownsburg-community-school-corporation-06-21-2006-201
END:VEVENT

END:VCALENDAR
