BEGIN:VCALENDAR
VERSION:2.0
PRODID:-//ChamberMaster//Event Calendar 2.0//EN
METHOD:PUBLISH
X-PUBLISHED-TTL:P3D
REFRESH-INTERVAL:P3D
CALSCALE:GREGORIAN
BEGIN:VEVENT
DTSTART:20060517T153000Z
DTEND:20060517T170000Z
X-MICROSOFT-CDO-ALLDAYEVENT:FALSE
SUMMARY:Monthly Luncheon Series--Featured Speaker: Kerri Agee-Smith
DESCRIPTION:Come hear Kerri Aggee-Smith of Banc Serv Consulting LLC speak on SBA lending.
X-ALT-DESC;FMTTYPE=text/html:Come hear Kerri Aggee-Smith of Banc Serv Consulting LLC speak on SBA lending.
LOCATION:470 East Northfield Drive\, Brownsburg\, IN 46112 470 E. Northfield Drive\, Brownsburg. All are welcome to attend the monthly Chamber luncheon. The cost is $10 per person and reservations are required.
UID:e.2778.187
SEQUENCE:3
DTSTAMP:20260424T160741Z
URL:https://www.brownsburg.com/events/details/monthly-luncheon-series-featured-speaker-kerri-agee-smith-05-17-2006-187
END:VEVENT

END:VCALENDAR
