BEGIN:VCALENDAR
VERSION:2.0
PRODID:-//ChamberMaster//Event Calendar 2.0//EN
METHOD:PUBLISH
X-PUBLISHED-TTL:P3D
REFRESH-INTERVAL:P3D
CALSCALE:GREGORIAN
BEGIN:VEVENT
DTSTART:20060215T163000Z
DTEND:20060215T163000Z
X-MICROSOFT-CDO-ALLDAYEVENT:FALSE
SUMMARY:Monthly Luncheon Series--Hendricks County Magistrate Mark Smith
DESCRIPTION:
X-ALT-DESC;FMTTYPE=text/html:
LOCATION:470 E. Northfield Drive\, Brownsburg\, IN 46112 Fire Territory Building\, 470 E. Northfield Drive Reservations needed by Feb. 10.
UID:e.2778.72
SEQUENCE:3
DTSTAMP:20260424T211309Z
URL:https://www.brownsburg.com/events/details/monthly-luncheon-series-hendricks-county-magistrate-mark-smith-02-15-2006-72
END:VEVENT

END:VCALENDAR
