BEGIN:VCALENDAR
VERSION:2.0
PRODID:-//ChamberMaster//Event Calendar 2.0//EN
METHOD:PUBLISH
X-PUBLISHED-TTL:P3D
REFRESH-INTERVAL:P3D
CALSCALE:GREGORIAN
BEGIN:VEVENT
DTSTART:20260218T163000Z
DTEND:20260218T180000Z
X-MICROSOFT-CDO-ALLDAYEVENT:FALSE
SUMMARY:Monthly Luncheon: State of the Town
DESCRIPTION:State of the Town \n\nFeaturing Guest Speakers: Brownsburg Town Leadership\n\nSee how Brownsburg is building for today and tomorrow with highlights of completed infrastructure projects\, economic development investments\, and park updates\, plus a look ahead at what's coming in 2026.\n\nWhether you're a business owner\, resident\, or simply interested in staying informed\, this event provides the perfect platform to connect\, ask questions\, and understand the vision shaping our community.\n\n\n\nDate: Wednesday\, February 18\, 2026\n\nLocation: Brownsburg Fire Territory - 470 E Northfield Dr\, Brownsburg\, IN 46112\n\nLunch: Don Julio's Mexican Restaurant\n\nCost: $15 for members | $20 for nonmembers\n\nDon't miss this chance to stay connected and be part of the conversation about our town's future.
X-ALT-DESC;FMTTYPE=text/html:<p><strong><u><span style="font-size:16px\;">State of the Town&nbsp\;</span></u></strong><br />\n<em>Featuring Guest Speakers: Brownsburg Town Leadership</em></p>\n\n<p><!--StartFragment--><span style="font-size:14px\;"><span data-olk-copy-source="MessageBody" style="font-family: Calibri\, sans-serif\;">See how Brownsburg is building for today and tomorrow with highlights of completed infrastructure projects\, economic development investments\, and park updates\, plus a look ahead at what&rsquo\;s coming in 2026.</span></span><!--EndFragment--></p>\n\n<p><span style="font-size:14px\;">Whether you&#39\;re a business owner\, resident\, or simply interested in staying informed\, this event provides the perfect platform to connect\, ask questions\, and understand the vision shaping our community.<br />\n<br />\n<strong>Date:</strong>&nbsp\;Wednesday\, February&nbsp\;18\, 2026<br />\n<strong>Location:</strong>&nbsp\;Brownsburg Fire Territory -<span class="w8qArf FoJoyf" style="font-weight: 700\; color: rgb(31\, 31\, 31)\; font-family: Roboto\, Arial\, sans-serif\;">&nbsp\;</span><span class="LrzXr" style="color: var(--bbQxAb)\; font-family: Roboto\, Arial\, sans-serif\;">470 E Northfield Dr\, Brownsburg\, IN 46112</span><br />\n<strong>Lunch:&nbsp\;</strong>Don Julio&#39\;s Mexican Restaurant<br />\n<strong>Cost:</strong>&nbsp\;$15 for members | $20 for nonmembers</span></p>\n\n<p><span style="font-size:14px\;">Don&#39\;t miss this chance to stay connected and be part of the conversation about our town&#39\;s future.</span></p>\n
LOCATION:Brownsburg Fire Territory Park in the back parking lot and enter through the back doors.
UID:e.2778.9174
SEQUENCE:3
DTSTAMP:20260425T034619Z
URL:https://www.brownsburg.com/events/details/monthly-luncheon-state-of-the-town-9174
END:VEVENT

END:VCALENDAR
