BEGIN:VCALENDAR
VERSION:2.0
PRODID:-//ChamberMaster//Event Calendar 2.0//EN
METHOD:PUBLISH
X-PUBLISHED-TTL:P3D
REFRESH-INTERVAL:P3D
CALSCALE:GREGORIAN
BEGIN:VEVENT
DTSTART:20100501T213000Z
DTEND:20100501T213000Z
X-MICROSOFT-CDO-ALLDAYEVENT:FALSE
SUMMARY:Motorsports Celebration!
DESCRIPTION:Tickets are $25.00 per person payable in advance or at door. Cash bar.  Please visit our website for more information!  You can register online for this event.  Your registration will not be valid until payment is received.
X-ALT-DESC;FMTTYPE=text/html:Tickets are $25.00 per person payable in advance or at door. Cash bar.  Please visit our website for more information!  You can register online for this event.  Your registration will not be valid until payment is received.
LOCATION:450 East Northfield Drive\, Brownsburg\, IN 46112 Community Welcome!! Silent/Live Auction* Food* Car Show *Pinewood Derby hosted at Bill Estes Ford\, Brownsburg.
UID:e.2778.866
SEQUENCE:3
DTSTAMP:20260421T181736Z
URL:https://www.brownsburg.com/events/details/motorsports-celebration-05-01-2010-866
END:VEVENT

END:VCALENDAR
