BEGIN:VCALENDAR
VERSION:2.0
PRODID:-//ChamberMaster//Event Calendar 2.0//EN
METHOD:PUBLISH
X-PUBLISHED-TTL:P3D
REFRESH-INTERVAL:P3D
CALSCALE:GREGORIAN
BEGIN:VEVENT
DTSTART;VALUE=DATE:20070921
DTEND;VALUE=DATE:20070922
TRANSP:TRANSPARENT
X-MICROSOFT-CDO-ALLDAYEVENT:TRUE
SUMMARY:Network of Women in Business
DESCRIPTION:
X-ALT-DESC;FMTTYPE=text/html:
LOCATION:Ritz Charles
UID:e.2778.484
SEQUENCE:3
DTSTAMP:20260423T170351Z
URL:https://www.brownsburg.com/events/details/network-of-women-in-business-09-21-2007-484
END:VEVENT

END:VCALENDAR
