BEGIN:VCALENDAR
VERSION:2.0
PRODID:-//ChamberMaster//Event Calendar 2.0//EN
METHOD:PUBLISH
X-PUBLISHED-TTL:P3D
REFRESH-INTERVAL:P3D
CALSCALE:GREGORIAN
BEGIN:VEVENT
DTSTART:20060909T130000Z
DTEND:20060909T210000Z
X-MICROSOFT-CDO-ALLDAYEVENT:FALSE
SUMMARY:NFL Punt\, Pass & Kick Competition
DESCRIPTION:
X-ALT-DESC;FMTTYPE=text/html:
LOCATION:at Vic Overman Sportsfield Park on Odell. Test your skills in punting\, passing\, and kicking contests (based on distance and accuracy). There are boys and girls divisions for each age group. Top winners in each division move on to sectionals. Regionals will be held during halftime of an Indianapolis Colts game at the RCA Dome. NO CLEATS! for more information contact the Parks Department at 858-4172.
UID:e.2778.328
SEQUENCE:3
DTSTAMP:20260424T100042Z
URL:https://www.brownsburg.com/events/details/nfl-punt-pass-kick-competition-09-09-2006-328
END:VEVENT

END:VCALENDAR
