BEGIN:VCALENDAR
VERSION:2.0
PRODID:-//ChamberMaster//Event Calendar 2.0//EN
METHOD:PUBLISH
X-PUBLISHED-TTL:P3D
REFRESH-INTERVAL:P3D
CALSCALE:GREGORIAN
BEGIN:VEVENT
DTSTART:20210403T140000Z
DTEND:20210403T153000Z
X-MICROSOFT-CDO-ALLDAYEVENT:FALSE
SUMMARY:Northfield Senior Living: Spring Eggstravaganza
DESCRIPTION:Come celebrate spring with us! We will be hosting a "Spring Eggstravaganza" on April 3rd from 10am-11:30 am! There will be an Easter egg hunt\, a raffle\, along with fun and games for kids! Invite any family or friends who may be interested!\n\n \n\n\n\nWe will be hosting all activities outside\, and ask that you wear a mask!\n\n \n\n\n\nWe look forward to connecting and meeting so many wonderful people in the community!
X-ALT-DESC;FMTTYPE=text/html:<div>\n<div>Come celebrate spring with us! We will be hosting a &quot\;Spring Eggstravaganza&quot\; on April 3rd from 10am-11:30 am! There will be an Easter egg hunt\, a raffle\, along with fun and games for kids! Invite any family or friends who may be interested!<br />\n&nbsp\;</div>\n</div>\n\n<div>\n<div>We will be hosting all activities outside\, and ask that you wear a mask!<br />\n&nbsp\;</div>\n</div>\n\n<div>\n<div>We look forward to connecting and meeting so many wonderful people in the community!</div>\n</div>\n
LOCATION:
UID:e.2778.6572
SEQUENCE:3
DTSTAMP:20260424T191419Z
URL:https://www.brownsburg.com/events/details/northfield-senior-living-spring-eggstravaganza-6572
END:VEVENT

END:VCALENDAR
