BEGIN:VCALENDAR
VERSION:2.0
PRODID:-//ChamberMaster//Event Calendar 2.0//EN
METHOD:PUBLISH
X-PUBLISHED-TTL:P3D
REFRESH-INTERVAL:P3D
CALSCALE:GREGORIAN
BEGIN:VEVENT
DTSTART:20051130T163000Z
DTEND:20051130T180000Z
X-MICROSOFT-CDO-ALLDAYEVENT:FALSE
SUMMARY:November Monthly Luncheon--Chief Deputy Prosecutor Stephenie Lemay-Luken
DESCRIPTION:Chief Deputy Prosecutor Stephenie Lemay-Luken will be discussing the Hendricks County Prosecutors Office and how their office relates to and works with other agencies.
X-ALT-DESC;FMTTYPE=text/html:Chief Deputy Prosecutor Stephenie Lemay-Luken will be discussing the Hendricks County Prosecutors Office and how their office relates to and works with other agencies.
LOCATION:470 East Northfield Drive\, Brownsburg\, IN 46112 Fire Territory Building\; 470 E. Northfield Drive
UID:e.2778.48
SEQUENCE:3
DTSTAMP:20260425T013650Z
URL:https://www.brownsburg.com/events/details/november-monthly-luncheon-chief-deputy-prosecutor-stephenie-lemay-luken-11-30-2005-48
END:VEVENT

END:VCALENDAR
