BEGIN:VCALENDAR
VERSION:2.0
PRODID:-//ChamberMaster//Event Calendar 2.0//EN
METHOD:PUBLISH
X-PUBLISHED-TTL:P3D
REFRESH-INTERVAL:P3D
CALSCALE:GREGORIAN
BEGIN:VEVENT
DTSTART:20051019T153000Z
DTEND:20051019T170000Z
X-MICROSOFT-CDO-ALLDAYEVENT:FALSE
SUMMARY:October Monthly Luncheon -- It's Not Your Mama's Library!
DESCRIPTION:Not Your Mama's Library:  How the Information Age has changed public libraries and what it means to you!\n\nJoin us at the October 19 Chamber luncheon and find out why Google isn't everything. Discover the invisible Web\, a gold-mine of fee-based databases that can't be accessed on the free Web. Hidden behind the gate of  libraries like ours are powerful new tools that allow you to prospect for business\, do competitive research\, learn best practices and consult subject matter experts in your business. Don't miss this chance to learn how you can take advantage of the latest information technology available through the Brownsburg Public Library.
X-ALT-DESC;FMTTYPE=text/html:Not Your Mama's Library:  How the Information Age has changed public libraries and what it means to you!\n\nJoin us at the October 19 Chamber luncheon and find out why Google isn't everything. Discover the invisible Web\, a gold-mine of fee-based databases that can't be accessed on the free Web. Hidden behind the gate of  libraries like ours are powerful new tools that allow you to prospect for business\, do competitive research\, learn best practices and consult subject matter experts in your business. Don't miss this chance to learn how you can take advantage of the latest information technology available through the Brownsburg Public Library. \n
LOCATION:470 East Northfield Drive\, Brownsburg\, IN 46112 Brownsburg Fire Territory Building\; 470 E. Northfield Drive
UID:e.2778.46
SEQUENCE:3
DTSTAMP:20260425T030940Z
URL:https://www.brownsburg.com/events/details/october-monthly-luncheon-it-s-not-your-mama-s-library-10-19-2005-46
END:VEVENT

END:VCALENDAR
