BEGIN:VCALENDAR
VERSION:2.0
PRODID:-//ChamberMaster//Event Calendar 2.0//EN
METHOD:PUBLISH
X-PUBLISHED-TTL:P3D
REFRESH-INTERVAL:P3D
CALSCALE:GREGORIAN
BEGIN:VEVENT
DTSTART:20051029T120000Z
DTEND:20051030T230000Z
X-MICROSOFT-CDO-ALLDAYEVENT:FALSE
SUMMARY:Octoboofest Soccer Tournament
DESCRIPTION:Annual Halloween Soccer Tournament held by the Avon Soccer Association and the Brownsburg Soccer League.  Over 160 teams from Indiana and the surrounding states come to compete in this two day tournament.  Ages U9-U15 boys and girls.  See related website for more information.
X-ALT-DESC;FMTTYPE=text/html:Annual Halloween Soccer Tournament held by the Avon Soccer Association and the Brownsburg Soccer League.  Over 160 teams from Indiana and the surrounding states come to compete in this two day tournament.  Ages U9-U15 boys and girls.  See related website for more information.
LOCATION:Brownsburg and Avon Soccer Complexes
UID:e.2778.47
SEQUENCE:3
DTSTAMP:20260425T030836Z
URL:https://www.brownsburg.com/events/details/octoboofest-soccer-tournament-10-29-2005-47
END:VEVENT

END:VCALENDAR
