BEGIN:VCALENDAR
VERSION:2.0
PRODID:-//ChamberMaster//Event Calendar 2.0//EN
METHOD:PUBLISH
X-PUBLISHED-TTL:P3D
REFRESH-INTERVAL:P3D
CALSCALE:GREGORIAN
BEGIN:VEVENT
DTSTART:20060505T130000Z
DTEND:20060505T220000Z
X-MICROSOFT-CDO-ALLDAYEVENT:FALSE
SUMMARY:Open House at State Bank of Lizton\, Brownsburg Branch
DESCRIPTION:
X-ALT-DESC;FMTTYPE=text/html:
LOCATION:7600 East County Road 700 North\, Brownsburg\, IN 46112 Join us on Friday May 5\, 9am-6pm for State Bank of Lizton’s Open House at the Brownsburg branch\, 60 Garner Road.
UID:e.2778.169
SEQUENCE:3
DTSTAMP:20260424T160924Z
URL:https://www.brownsburg.com/events/details/open-house-at-state-bank-of-lizton-brownsburg-branch-05-05-2006-169
END:VEVENT

END:VCALENDAR
