BEGIN:VCALENDAR
VERSION:2.0
PRODID:-//ChamberMaster//Event Calendar 2.0//EN
METHOD:PUBLISH
X-PUBLISHED-TTL:P3D
REFRESH-INTERVAL:P3D
CALSCALE:GREGORIAN
BEGIN:VEVENT
DTSTART:20060314T220000Z
DTEND:20060315T000000Z
X-MICROSOFT-CDO-ALLDAYEVENT:FALSE
SUMMARY:Open House--State Farm Insurance Pete Fay
DESCRIPTION:
X-ALT-DESC;FMTTYPE=text/html:
LOCATION:431 E. Northfield Dr.\, Suite 100 \, Brownsburg\, IN 46112 431 E. Northfield Dr.\, Suite 100. Come visit our new facility and see what State Farm can do for your insurance needs. Light refreshments will be served.
UID:e.2778.158
SEQUENCE:3
DTSTAMP:20260424T192156Z
URL:https://www.brownsburg.com/events/details/open-house-state-farm-insurance-pete-fay-03-14-2006-158
END:VEVENT

END:VCALENDAR
