BEGIN:VCALENDAR
VERSION:2.0
PRODID:-//ChamberMaster//Event Calendar 2.0//EN
METHOD:PUBLISH
X-PUBLISHED-TTL:P3D
REFRESH-INTERVAL:P3D
CALSCALE:GREGORIAN
BEGIN:VEVENT
DTSTART:20050531T220000Z
DTEND:20050531T230000Z
X-MICROSOFT-CDO-ALLDAYEVENT:FALSE
SUMMARY:Optimist Club Meeting - Everyone & Anyone Welcome!
DESCRIPTION:Come and join in on the FUN at every Optimist meeting.  They are held every Tuesday evening with a starting time of 6:00pm.  We meet at the Brownsburg Recreation Center\, 111 Eastern Avenue.  Everyone & Anyone is welcomed at these meetings!
X-ALT-DESC;FMTTYPE=text/html:Come and join in on the FUN at every Optimist meeting.  They are held every Tuesday evening with a starting time of 6:00pm.  We meet at the Brownsburg Recreation Center\, 111 Eastern Avenue.  Everyone & Anyone is welcomed at these meetings!
LOCATION:111 Eastern Avenue\, Brownsburg\, IN 46112 Meeting held at Brownsburg Recreation Center on 111 Eastern Avenue\, Brownsburg.
UID:e.2778.24
SEQUENCE:3
DTSTAMP:20260425T123029Z
URL:https://www.brownsburg.com/events/details/optimist-club-meeting-everyone-anyone-welcome-05-31-2005-24
END:VEVENT

END:VCALENDAR
