BEGIN:VCALENDAR
VERSION:2.0
PRODID:-//ChamberMaster//Event Calendar 2.0//EN
METHOD:PUBLISH
X-PUBLISHED-TTL:P3D
REFRESH-INTERVAL:P3D
CALSCALE:GREGORIAN
BEGIN:VEVENT
DTSTART;VALUE=DATE:20060726
DTEND;VALUE=DATE:20060727
TRANSP:TRANSPARENT
X-MICROSOFT-CDO-ALLDAYEVENT:TRUE
SUMMARY:Pavilion Cinemas Free Family Film Festival--Charlie & The Chocolate Factory
DESCRIPTION:Pavilion Cinemas presents Family Film Festival free each Wednesday through August 2!  Doors open at 9:30 AM.  Movie begins at 10AM.
X-ALT-DESC;FMTTYPE=text/html:Pavilion Cinemas presents Family Film Festival free each Wednesday through August 2!  Doors open at 9:30 AM.  Movie begins at 10AM.
LOCATION:1555 N. Green Street\, Brownsburg\, IN 46112 1555 N. Green St. Free Summer Series. Doors open at 9:30AM.
UID:e.2778.272
SEQUENCE:3
DTSTAMP:20260424T130008Z
URL:https://www.brownsburg.com/events/details/pavilion-cinemas-free-family-film-festival-charlie-the-chocolate-factory-07-26-2006-272
END:VEVENT

END:VCALENDAR
