BEGIN:VCALENDAR
VERSION:2.0
PRODID:-//ChamberMaster//Event Calendar 2.0//EN
METHOD:PUBLISH
X-PUBLISHED-TTL:P3D
REFRESH-INTERVAL:P3D
CALSCALE:GREGORIAN
BEGIN:VEVENT
DTSTART:20060628T140000Z
DTEND:20060628T140000Z
X-MICROSOFT-CDO-ALLDAYEVENT:FALSE
SUMMARY:Pavilion Cinemas Free Family Film Festival--Cheaper By the Dozen 2
DESCRIPTION:Pavilion Cinemas presents Family Film Festival free each Wednesday through August 2!  Doors open at 9:30 AM.  Movie begins at 10AM.
X-ALT-DESC;FMTTYPE=text/html:Pavilion Cinemas presents Family Film Festival free each Wednesday through August 2!  Doors open at 9:30 AM.  Movie begins at 10AM.
LOCATION:1555 N. Green Street\, Brownsburg\, IN 46112 1555 N. Green St. Free Summer Series. Doors open at 9:30AM.
UID:e.2778.268
SEQUENCE:3
DTSTAMP:20260424T144931Z
URL:https://www.brownsburg.com/events/details/pavilion-cinemas-free-family-film-festival-cheaper-by-the-dozen-2-06-28-2006-268
END:VEVENT

END:VCALENDAR
