BEGIN:VCALENDAR
VERSION:2.0
PRODID:-//ChamberMaster//Event Calendar 2.0//EN
METHOD:PUBLISH
X-PUBLISHED-TTL:P3D
REFRESH-INTERVAL:P3D
CALSCALE:GREGORIAN
BEGIN:VEVENT
DTSTART:20081108T140000Z
DTEND:20081108T200000Z
X-MICROSOFT-CDO-ALLDAYEVENT:FALSE
SUMMARY:Phi Beta Psi Society\, Theta Phi Chapter presents Annual Christmas Bazaar
DESCRIPTION:
X-ALT-DESC;FMTTYPE=text/html:
LOCATION:Eaton Hall 61 N. Green St\, Brownsburg FREE ADMISSION1 All proceeds go to cancer research and community projects.
UID:e.2778.623
SEQUENCE:3
DTSTAMP:20260422T220005Z
URL:https://www.brownsburg.com/events/details/phi-beta-psi-society-theta-phi-chapter-presents-annual-christmas-bazaar-11-08-2008-623
END:VEVENT

END:VCALENDAR
