BEGIN:VCALENDAR
VERSION:2.0
PRODID:-//ChamberMaster//Event Calendar 2.0//EN
METHOD:PUBLISH
X-PUBLISHED-TTL:P3D
REFRESH-INTERVAL:P3D
CALSCALE:GREGORIAN
BEGIN:VEVENT
DTSTART:20050427T220000Z
DTEND:20050428T010000Z
X-MICROSOFT-CDO-ALLDAYEVENT:FALSE
SUMMARY:Phi Beta Psi Tasting Festival to Benefit Cancer Research
DESCRIPTION:Sample food from Brownsburg and west side local restaurants and live music provided by the Starlighters Big Band! \n\nResearch grants are given each year to doctors throughout the country working in the field of cancer research.   Most of the money for these grants is earned through chapter projects and some is donated as memorials.  \n\nAdvanced purchased tickets are $10 and $12 at the door (if available).  Limited number of tickets are available.  To purchase tickets\, call 317-852-7536.
X-ALT-DESC;FMTTYPE=text/html:Sample food from Brownsburg and west side local restaurants and live music provided by the Starlighters Big Band! \n\nResearch grants are given each year to doctors throughout the country working in the field of cancer research.   Most of the money for these grants is earned through chapter projects and some is donated as memorials.  \n\nAdvanced purchased tickets are $10 and $12 at the door (if available).  Limited number of tickets are available.  To purchase tickets\, call 317-852-7536.
LOCATION:636 East Main Street\, Brownsburg\, IN 46112 Legion Post 331-Brownsburg 636 E. Main Street
UID:e.2778.15
SEQUENCE:3
DTSTAMP:20260425T135805Z
URL:https://www.brownsburg.com/events/details/phi-beta-psi-tasting-festival-to-benefit-cancer-research-04-27-2005-15
END:VEVENT

END:VCALENDAR
