BEGIN:VCALENDAR
VERSION:2.0
PRODID:-//ChamberMaster//Event Calendar 2.0//EN
METHOD:PUBLISH
X-PUBLISHED-TTL:P3D
REFRESH-INTERVAL:P3D
CALSCALE:GREGORIAN
BEGIN:VEVENT
DTSTART:20240417T150000Z
DTEND:20240417T170000Z
X-MICROSOFT-CDO-ALLDAYEVENT:FALSE
SUMMARY:POWER HOUR PLUS LUNCHEON
DESCRIPTION:ENGAGE EDUCATE EMPOWER IGNITE! Monthly luncheon with topics ranging from A-Z!  Speakers\, Panels\, and Networking Fun built in. Check each month for topic and location.
X-ALT-DESC;FMTTYPE=text/html:ENGAGE EDUCATE EMPOWER IGNITE! Monthly luncheon with topics ranging from A-Z!&nbsp\; Speakers\, Panels\, and Networking Fun built in. Check each month for topic and location.&nbsp\;
LOCATION:West Chase Golf Pavilion
UID:e.2778.8809
SEQUENCE:3
DTSTAMP:20260422T111814Z
URL:https://www.brownsburg.com/events/details/power-hour-plus-luncheon-04-17-2024-8809
END:VEVENT

END:VCALENDAR
