BEGIN:VCALENDAR
VERSION:2.0
PRODID:-//ChamberMaster//Event Calendar 2.0//EN
METHOD:PUBLISH
X-PUBLISHED-TTL:P3D
REFRESH-INTERVAL:P3D
CALSCALE:GREGORIAN
BEGIN:VEVENT
DTSTART:20051112T133000Z
DTEND:20051112T153000Z
X-MICROSOFT-CDO-ALLDAYEVENT:FALSE
SUMMARY:Presbyterian Women's Breakfast
DESCRIPTION:The Presbyterian Women's organization of the Whitelick Presbyterian Church will serve breakfast from 8:30 to 10:30 a.m. on November 12\, 2005 in the Fellowship Hall.  Everyone is welcome!!!\n\nThe menu will include bacon\, sausage\, pancakes\, eggs\, omelets\, fruit\, coffee\, tea\, and juice.\n\nThe cost will be $5 for adults\, $3 for children 6-12\, and free for children under 6.\n\nProceeds will be used for the church's local mission work.\n\n\n''Worship   Grow     Serve'' in worship\, fellowship\, and missions.  For further information call the Church office at 317-852-2840 or visit us on the web at www.whitelickpcusa.org.  Whitelick Presbyterian Church is located at 2530 N 600 E in Avon – take SR267 to CR200N\, turn west on 200N to 600E\, turn north to church.
X-ALT-DESC;FMTTYPE=text/html:The Presbyterian Women's organization of the Whitelick Presbyterian Church will serve breakfast from 8:30 to 10:30 a.m. on November 12\, 2005 in the Fellowship Hall.  Everyone is welcome!!!\n\nThe menu will include bacon\, sausage\, pancakes\, eggs\, omelets\, fruit\, coffee\, tea\, and juice.\n\nThe cost will be $5 for adults\, $3 for children 6-12\, and free for children under 6.\n\nProceeds will be used for the church's local mission work.\n\n\n''Worship   Grow     Serve'' in worship\, fellowship\, and missions.  For further information call the Church office at 317-852-2840 or visit us on the web at www.whitelickpcusa.org.  Whitelick Presbyterian Church is located at 2530 N 600 E in Avon – take SR267 to CR200N\, turn west on 200N to 600E\, turn north to church.\n
LOCATION:2530 North County Road 600 East\, Avon\, IN 46123 Whitelick Presbyterian Church is located at 2530 N 600 E in Avon – take SR267 to CR200N\, turn west on 200N to 600E\, turn north to church.
UID:e.2778.57
SEQUENCE:3
DTSTAMP:20260425T013216Z
URL:https://www.brownsburg.com/events/details/presbyterian-women-s-breakfast-11-12-2005-57
END:VEVENT

END:VCALENDAR
