BEGIN:VCALENDAR
VERSION:2.0
PRODID:-//ChamberMaster//Event Calendar 2.0//EN
METHOD:PUBLISH
X-PUBLISHED-TTL:P3D
REFRESH-INTERVAL:P3D
CALSCALE:GREGORIAN
BEGIN:VEVENT
DTSTART:20060825T143000Z
DTEND:20060825T143000Z
X-MICROSOFT-CDO-ALLDAYEVENT:FALSE
SUMMARY:Prevent Child Abuse Hendricks County Third Annual Golf Tournament
DESCRIPTION:Prevent Child Abuse Hendricks County is hosting its Third Annual Golf Tournament on Friday\, August 25\, 2006\, at the Twin Bridges Golf Club located at 1001 Cartersburg Road in Danville\, IN.  Proceeds from this event benefit Prevent Child Abuse Hendricks County's parent and caregiver education and support programs.  Cost is $70.00 per person and includes lunch and dinner.  Individuals and foursomes are encouraged to participate.  Registration begins at 10:30 with a shotgun start at 12:00.  Dinner and Awards Ceremony immediately follow play.  For further information\, please visit Prevent Child Abuse Hendricks County's website at www.pca-hc.org or call the office at (317) 272-0053.\n \nPrevent Child Abuse Hendricks County is a not for profit organization dedicated to ending all forms of child abuse and neglect.  We currently operate a Mentor Mothers program and we provide comprehensive baby and child care books to parents throughout the county.  We also make educational presentations on Child Abuse 101 and Shaken Infant Syndrome.  The golf outing is our largest fundraiser of the year and is essential to our programs.  Please contact me with any questions.\n \nThank you. \n \nKerry Tuttle\nExecutive Director\nPrevent Child Abuse Hendricks County\n(317)272-0053\nCare Line: (800)CHILDREN\nwww.pca-hc.org
X-ALT-DESC;FMTTYPE=text/html:Prevent Child Abuse Hendricks County is hosting its Third Annual Golf Tournament on Friday\, August 25\, 2006\, at the Twin Bridges Golf Club located at 1001 Cartersburg Road in Danville\, IN.  Proceeds from this event benefit Prevent Child Abuse Hendricks County's parent and caregiver education and support programs.  Cost is $70.00 per person and includes lunch and dinner.  Individuals and foursomes are encouraged to participate.  Registration begins at 10:30 with a shotgun start at 12:00.  Dinner and Awards Ceremony immediately follow play.  For further information\, please visit Prevent Child Abuse Hendricks County's website at www.pca-hc.org or call the office at (317) 272-0053.\n \nPrevent Child Abuse Hendricks County is a not for profit organization dedicated to ending all forms of child abuse and neglect.  We currently operate a Mentor Mothers program and we provide comprehensive baby and child care books to parents throughout the county.  We also make educational presentations on Child Abuse 101 and Shaken Infant Syndrome.  The golf outing is our largest fundraiser of the year and is essential to our programs.  Please contact me with any questions.\n \nThank you. \n \nKerry Tuttle\nExecutive Director\nPrevent Child Abuse Hendricks County\n(317)272-0053\nCare Line: (800)CHILDREN\nwww.pca-hc.org
LOCATION:1001 Cartersburg Road\, Danville\, IN 46122 at Twin Bridges Golf Club in Danville. For more information visit their website at www.pca-hc.org or call 272-0053.
UID:e.2778.286
SEQUENCE:3
DTSTAMP:20260424T113946Z
URL:https://www.brownsburg.com/events/details/prevent-child-abuse-hendricks-county-third-annual-golf-tournament-08-25-2006-286
END:VEVENT

END:VCALENDAR
