BEGIN:VCALENDAR
VERSION:2.0
PRODID:-//ChamberMaster//Event Calendar 2.0//EN
METHOD:PUBLISH
X-PUBLISHED-TTL:P3D
REFRESH-INTERVAL:P3D
CALSCALE:GREGORIAN
BEGIN:VEVENT
DTSTART:20060420T223000Z
DTEND:20060420T223000Z
X-MICROSOFT-CDO-ALLDAYEVENT:FALSE
SUMMARY:Prioritization Workshop for Hendricks County's Future!
DESCRIPTION:You are invited to a public workshop to prioritize the issues that were identified during the visioning process in Hendricks County.  This workshop is intended to gather public opinion and to further develop the goals and policies that should be included in the County's updated Comprehensive Plan.  Please invite your friends and neighbors to attend and ahve a say in Hendricks County's future!\n\nPrioritization Workshops:\nHendricks County residents are invited to participate in facilitated discussion and other exercises at these workshops\, focusing on prioritizing key issues facing the County's future\, such as land use\, growth\, county image\, agriculture\, transportation and parks.  Each workshop will last 1-1/2 to 2 hours.\n\nCounty residents can also follow the Comprehensive Plan's progress by going to www.Communtiy Collaborate.com.\n\nMonday April 10\, 2006\, 6:30pm at New Winchester Christian Church\; 75 S. SR 75 (just south of US 36)\nWednesday April 12\, 2006\, 6:30pm at Avon Town Hall\; 6570 E. US 36\nThursday April 20\, 2006\, 6:30pm at Danville Town Hall\; 147 W. Main Street\n\nResidents do not need to attend every workshop\; the agenda for each will be identical.\n\nQuestions?  Contact Don Reitz\, Hendricks County Planning Director at (317)745-9346  or email dreitz@co.hendricks.in.us
X-ALT-DESC;FMTTYPE=text/html:You are invited to a public workshop to prioritize the issues that were identified during the visioning process in Hendricks County.  This workshop is intended to gather public opinion and to further develop the goals and policies that should be included in the County's updated Comprehensive Plan.  Please invite your friends and neighbors to attend and ahve a say in Hendricks County's future!\n\nPrioritization Workshops:\nHendricks County residents are invited to participate in facilitated discussion and other exercises at these workshops\, focusing on prioritizing key issues facing the County's future\, such as land use\, growth\, county image\, agriculture\, transportation and parks.  Each workshop will last 1-1/2 to 2 hours.\n\nCounty residents can also follow the Comprehensive Plan's progress by going to www.Communtiy Collaborate.com.\n\nMonday April 10\, 2006\, 6:30pm at New Winchester Christian Church\; 75 S. SR 75 (just south of US 36)\nWednesday April 12\, 2006\, 6:30pm at Avon Town Hall\; 6570 E. US 36\nThursday April 20\, 2006\, 6:30pm at Danville Town Hall\; 147 W. Main Street\n\nResidents do not need to attend every workshop\; the agenda for each will be identical.\n\nQuestions?  Contact Don Reitz\, Hendricks County Planning Director at (317)745-9346  or email dreitz@co.hendricks.in.us
LOCATION:147 W. Main Street\, Danville\, IN 46122 Danville Town Hall\; 147 W. Main Street. Hendricks County residents are invited to participate in facilitated discussion focusing on prioritizing key issues facing the County's future\, such as land use\, growth\, county image\, agriculture\, transportation and parks. Each workshop will last 1-1/2 to 2 hours.
UID:e.2778.179
SEQUENCE:3
DTSTAMP:20260424T172954Z
URL:https://www.brownsburg.com/events/details/prioritization-workshop-for-hendricks-county-s-future-04-20-2006-179
END:VEVENT

END:VCALENDAR
