BEGIN:VCALENDAR
VERSION:2.0
PRODID:-//ChamberMaster//Event Calendar 2.0//EN
METHOD:PUBLISH
X-PUBLISHED-TTL:P3D
REFRESH-INTERVAL:P3D
CALSCALE:GREGORIAN
BEGIN:VEVENT
DTSTART:20070629T130000Z
DTEND:20070629T130000Z
X-MICROSOFT-CDO-ALLDAYEVENT:FALSE
SUMMARY:Professional Firefighters Local 4406 1st Annual Golf Outing
DESCRIPTION:
X-ALT-DESC;FMTTYPE=text/html:
LOCATION:Twin Bridges Golf Club 1001 Catersburg Road Danville\, IN
UID:e.2778.446
SEQUENCE:3
DTSTAMP:20260423T224635Z
URL:https://www.brownsburg.com/events/details/professional-firefighters-local-4406-1st-annual-golf-outing-06-29-2007-446
END:VEVENT

END:VCALENDAR
