BEGIN:VCALENDAR
VERSION:2.0
PRODID:-//ChamberMaster//Event Calendar 2.0//EN
METHOD:PUBLISH
X-PUBLISHED-TTL:P3D
REFRESH-INTERVAL:P3D
CALSCALE:GREGORIAN
BEGIN:VEVENT
DTSTART:20071011T150000Z
DTEND:20071011T180000Z
X-MICROSOFT-CDO-ALLDAYEVENT:FALSE
SUMMARY:Public Flu and Pneumonia Shot Clinic
DESCRIPTION:
X-ALT-DESC;FMTTYPE=text/html:
LOCATION:Eaton Hall 61 N. Green Street\, Brownsburg\, IN 46112 Flu shot $30 & Pneumonia shot $40! Medicare pays for one influenza immunization each season. Children under the age of 12 must have a Doctor's order with them in order to receive a vaccination.
UID:e.2778.488
SEQUENCE:3
DTSTAMP:20260423T152446Z
URL:https://www.brownsburg.com/events/details/public-flu-and-pneumonia-shot-clinic-10-11-2007-488
END:VEVENT

END:VCALENDAR
