BEGIN:VCALENDAR
VERSION:2.0
PRODID:-//ChamberMaster//Event Calendar 2.0//EN
METHOD:PUBLISH
X-PUBLISHED-TTL:P3D
REFRESH-INTERVAL:P3D
CALSCALE:GREGORIAN
BEGIN:VEVENT
DTSTART:20061028T220000Z
DTEND:20061028T233000Z
X-MICROSOFT-CDO-ALLDAYEVENT:FALSE
SUMMARY:Pumpkin Carving Contest at Haunts of Hidden River
DESCRIPTION:
X-ALT-DESC;FMTTYPE=text/html:
LOCATION:200 N. Green Street\, Brownsburg\, IN 46112 At Arbuckle Park\; 200 N. Green St. Drop off time from 6-7:30p. Judging begins at 8p. No fee to enter. Prizes awarded!
UID:e.2778.350
SEQUENCE:3
DTSTAMP:20260424T103202Z
URL:https://www.brownsburg.com/events/details/pumpkin-carving-contest-at-haunts-of-hidden-river-10-28-2006-350
END:VEVENT

END:VCALENDAR
