BEGIN:VCALENDAR
VERSION:2.0
PRODID:-//ChamberMaster//Event Calendar 2.0//EN
METHOD:PUBLISH
X-PUBLISHED-TTL:P3D
REFRESH-INTERVAL:P3D
CALSCALE:GREGORIAN
BEGIN:VEVENT
DTSTART:20060211T150000Z
DTEND:20060211T180000Z
X-MICROSOFT-CDO-ALLDAYEVENT:FALSE
SUMMARY:Purdue University's Opportunity Motorsports and Circle Bound Racing Open House
DESCRIPTION:Information will be provided about both programs and the partnership between the two for the 2006 racing season.  Light refreshments will be served.  Please RSVP to Johnathan Hassler at jhassler@purdue.edu or (765)720-1384 by 2/6.
X-ALT-DESC;FMTTYPE=text/html:Information will be provided about both programs and the partnership between the two for the 2006 racing season.  Light refreshments will be served.  Please RSVP to Johnathan Hassler at jhassler@purdue.edu or (765)720-1384 by 2/6.  
LOCATION:454 Johnson Lane\, Brownsburg\, IN 46112 Information will be provided about both programs and the partnership between the two for the 2006 racing season. Please RSVP to Johnathan Hassler at jhassler@purdue.edu or (765)720-1384 by 2/6.
UID:e.2778.95
SEQUENCE:3
DTSTAMP:20260424T204821Z
URL:https://www.brownsburg.com/events/details/purdue-university-s-opportunity-motorsports-and-circle-bound-racing-open-house-02-11-2006-95
END:VEVENT

END:VCALENDAR
