BEGIN:VCALENDAR
VERSION:2.0
PRODID:-//ChamberMaster//Event Calendar 2.0//EN
METHOD:PUBLISH
X-PUBLISHED-TTL:P3D
REFRESH-INTERVAL:P3D
CALSCALE:GREGORIAN
BEGIN:VEVENT
DTSTART:20081108T140000Z
DTEND:20081108T210000Z
X-MICROSOFT-CDO-ALLDAYEVENT:FALSE
SUMMARY:Queen Anne's Lace\, Flowers And Gifts Christmas Open House & 25 year Celebration!
DESCRIPTION:Christmas Open House and Celebrating 25th year in business!
X-ALT-DESC;FMTTYPE=text/html:Christmas Open House and Celebrating 25th year in business!
LOCATION:680 E. 56th St.\, Ste. F\, Brownsburg\, IN 46112
UID:e.2778.603
SEQUENCE:3
DTSTAMP:20260422T203025Z
URL:https://www.brownsburg.com/events/details/queen-anne-s-lace-flowers-and-gifts-christmas-open-house-25-year-celebration-11-08-2008-603
END:VEVENT

END:VCALENDAR
