BEGIN:VCALENDAR
VERSION:2.0
PRODID:-//ChamberMaster//Event Calendar 2.0//EN
METHOD:PUBLISH
X-PUBLISHED-TTL:P3D
REFRESH-INTERVAL:P3D
CALSCALE:GREGORIAN
BEGIN:VEVENT
DTSTART:20061118T140000Z
DTEND:20061118T210000Z
X-MICROSOFT-CDO-ALLDAYEVENT:FALSE
SUMMARY:Queen Anne's Lace Holiday Open House
DESCRIPTION:
X-ALT-DESC;FMTTYPE=text/html:
LOCATION:680 E. 56th St.\, Ste. F\, Brownsburg\, IN 46112 Come join Queen Anne's Lace for a holiday open house feature special discounts\, free gifts and snacks! One day only!!
UID:e.2778.371
SEQUENCE:3
DTSTAMP:20260424T073113Z
URL:https://www.brownsburg.com/events/details/queen-anne-s-lace-holiday-open-house-11-18-2006-371
END:VEVENT

END:VCALENDAR
