BEGIN:VCALENDAR
VERSION:2.0
PRODID:-//ChamberMaster//Event Calendar 2.0//EN
METHOD:PUBLISH
X-PUBLISHED-TTL:P3D
REFRESH-INTERVAL:P3D
CALSCALE:GREGORIAN
BEGIN:VEVENT
DTSTART:20090123T000000Z
DTEND:20090123T000000Z
X-MICROSOFT-CDO-ALLDAYEVENT:FALSE
SUMMARY:Relay For Life ~Kickoff Party~
DESCRIPTION:
X-ALT-DESC;FMTTYPE=text/html:
LOCATION:6030 W. 62nd St.\, Indianapolis\, IN 46278 Eaton Hall\, 55 East Main St
UID:e.2778.657
SEQUENCE:3
DTSTAMP:20260422T173639Z
URL:https://www.brownsburg.com/events/details/relay-for-life-kickoff-party-01-22-2009-657
END:VEVENT

END:VCALENDAR
